BEGIN:VCALENDAR
VERSION:2.0
PRODID:SchoolNow
CALSCALE:GREGORIAN
BEGIN:VEVENT
UID:f887a852-cdbd-11ed-9067-0afb6a37b609
DTSTAMP:20240314T041019Z
SUMMARY:Cascade Elementary Staff: Cascade  Student 5th and 6th Grade Volley
 ball
LOCATION:Cascade Elementary School - Cascade-Gym
URL;VALUE=URI:https://www.eastmont206.org/cas/calendar/3940744/cascade-elem
 entary-staff-cascade-student-5th-and-6th-grade-volleyball
DTSTART:20240307T231500Z
DTEND:20240308T004500Z
END:VEVENT
END:VCALENDAR
