BEGIN:VCALENDAR
VERSION:2.0
PRODID:SchoolNow
CALSCALE:GREGORIAN
BEGIN:VEVENT
UID:f887dda4-cdbd-11ed-a318-0afb6a37b609
DTSTAMP:20240314T041019Z
SUMMARY:Cascade Elementary Staff: Cascade  Student 5th and 6th Grade Volley
 ball
LOCATION:Cascade Elementary School - Cascade-Gym
URL;VALUE=URI:https://www.eastmont206.org/cas/calendar/3940746/cascade-elem
 entary-staff-cascade-student-5th-and-6th-grade-volleyball
DTSTART:20240314T221500Z
DTEND:20240314T234500Z
END:VEVENT
END:VCALENDAR
