BEGIN:VCALENDAR
VERSION:2.0
PRODID:SchoolNow
CALSCALE:GREGORIAN
BEGIN:VEVENT
UID:033df728-118a-11ee-bb0a-0ebb41696803
DTSTAMP:20240314T041019Z
SUMMARY:Cascade Elementary Staff: PARENT TEACHER CONFERENCES
LOCATION:Cascade Elementary School - Cascade- Cafeteria\, Cascade- Parking 
 Lot\, Cascade-Gym\, Cascade-Library
URL;VALUE=URI:https://www.eastmont206.org/cas/calendar/4424175/cascade-elem
 entary-staff-parent-teacher-conferences
DTSTART:20240229T233000Z
DTEND:20240301T040000Z
END:VEVENT
END:VCALENDAR
