BEGIN:VCALENDAR
VERSION:2.0
PRODID:SchoolNow
CALSCALE:GREGORIAN
BEGIN:VEVENT
UID:033e0ac4-118a-11ee-b242-0ebb41696803
DTSTAMP:20240314T041019Z
SUMMARY:Cascade Elementary Staff: PARENT TEACHER CONFERENCES
LOCATION:Cascade Elementary School - Cascade- Cafeteria\, Cascade- Parking 
 Lot\, Cascade-Gym\, Cascade-Library
URL;VALUE=URI:https://www.eastmont206.org/cas/calendar/4424176/cascade-elem
 entary-staff-parent-teacher-conferences
DTSTART:20240301T233000Z
DTEND:20240302T040000Z
END:VEVENT
END:VCALENDAR
