BEGIN:VCALENDAR
VERSION:2.0
PRODID:SchoolNow
CALSCALE:GREGORIAN
BEGIN:VEVENT
UID:033e1dfc-118a-11ee-b0e0-0ebb41696803
DTSTAMP:20240314T041019Z
SUMMARY:Cascade Elementary Staff: PTO STEAM NIGHT AND 5TH AND 6TH GRADE SCI
 ENCE FAIR
LOCATION:Cascade Elementary School - Cascade- Cafeteria\, Cascade- Parking 
 Lot\, Cascade-Gym
URL;VALUE=URI:https://www.eastmont206.org/cas/calendar/4424177/cascade-elem
 entary-staff-pto-steam-night-and-5th-and-6th-grade-science-fair
DTSTART:20240309T020000Z
DTEND:20240309T040000Z
END:VEVENT
END:VCALENDAR
