BEGIN:VCALENDAR
VERSION:2.0
PRODID:SchoolNow
CALSCALE:GREGORIAN
BEGIN:VEVENT
UID:033e3224-118a-11ee-bfc1-0ebb41696803
DTSTAMP:20240314T041019Z
SUMMARY:Cascade Elementary Staff: 1ST GRADE MUSICAL CONCERT
LOCATION:Cascade Elementary School - Cascade- Cafeteria\, Cascade- Parking 
 Lot\, Cascade-Gym
URL;VALUE=URI:https://www.eastmont206.org/cas/calendar/4424178/cascade-elem
 entary-staff-1st-grade-musical-concert
DTSTART:20240327T013000Z
DTEND:20240327T023000Z
END:VEVENT
END:VCALENDAR
