BEGIN:VCALENDAR
VERSION:2.0
PRODID:SchoolNow
CALSCALE:GREGORIAN
BEGIN:VEVENT
UID:033e4570-118a-11ee-b3d9-0ebb41696803
DTSTAMP:20240314T041019Z
SUMMARY:Cascade Elementary Staff: PTO FAMILY MOVIE NIGHT
LOCATION:Cascade Elementary School - Cascade- Cafeteria\, Cascade- Parking 
 Lot\, Cascade-Gym
URL;VALUE=URI:https://www.eastmont206.org/cas/calendar/4424179/cascade-elem
 entary-staff-pto-family-movie-night
DTSTART:20240608T003000Z
DTEND:20240608T030000Z
END:VEVENT
END:VCALENDAR
