BEGIN:VCALENDAR
VERSION:2.0
PRODID:SchoolNow
CALSCALE:GREGORIAN
BEGIN:VEVENT
UID:033e58bc-118a-11ee-bb09-0ebb41696803
DTSTAMP:20240314T041019Z
SUMMARY:Cascade Elementary Staff: KINDERGARTEN GRADUATION
LOCATION:Cascade Elementary School - Cascade- Cafeteria\, Cascade-Gym
URL;VALUE=URI:https://www.eastmont206.org/cas/calendar/4424180/cascade-elem
 entary-staff-kindergarten-graduation
DTSTART:20240612T013000Z
DTEND:20240612T020000Z
END:VEVENT
END:VCALENDAR
