BEGIN:VCALENDAR
VERSION:2.0
PRODID:SchoolNow
CALSCALE:GREGORIAN
BEGIN:VEVENT
UID:033e6bc2-118a-11ee-8c2d-0ebb41696803
DTSTAMP:20240314T041019Z
SUMMARY:Cascade Elementary Staff: 6TH GRADE SHOWCASE AND PROMOTION
LOCATION:Cascade Elementary School - Cascade- Cafeteria\, Cascade- Parking 
 Lot\, Cascade-Gym
URL;VALUE=URI:https://www.eastmont206.org/cas/calendar/4424181/cascade-elem
 entary-staff-6th-grade-showcase-and-promotion
DTSTART:20240614T010000Z
DTEND:20240614T023000Z
END:VEVENT
END:VCALENDAR
