BEGIN:VCALENDAR
VERSION:2.0
PRODID:SchoolNow
CALSCALE:GREGORIAN
BEGIN:VEVENT
UID:f36f85a2-2780-11ee-862d-0a58a9feac02
DTSTAMP:20240314T041019Z
SUMMARY:District Office Administration: School Board Meeting
LOCATION:Cascade Elementary School - Cascade-Library
URL;VALUE=URI:https://www.eastmont206.org/cas/calendar/4506041/district-off
 ice-administration-school-board-meeting
DTSTART:20240227T013000Z
DTEND:20240227T033000Z
END:VEVENT
END:VCALENDAR
