BEGIN:VCALENDAR
VERSION:2.0
PRODID:SchoolNow
CALSCALE:GREGORIAN
BEGIN:VEVENT
UID:2404e8f0-5a18-11ee-9b3e-0eec6a8c31b3
DTSTAMP:20240314T041019Z
SUMMARY:Wenatchee Valley Chessforkidz: Chess4Kidz
LOCATION:Cascade Elementary School - Cascade-Library
URL;VALUE=URI:https://www.eastmont206.org/cas/calendar/4783122/wenatchee-va
 lley-chessforkidz-chess4kidz
DTSTART:20240306T231000Z
DTEND:20240307T000500Z
END:VEVENT
END:VCALENDAR
