BEGIN:VCALENDAR
VERSION:2.0
PRODID:SchoolNow
CALSCALE:GREGORIAN
BEGIN:VEVENT
UID:24068b9c-5a18-11ee-ad9d-0eec6a8c31b3
DTSTAMP:20240314T041019Z
SUMMARY:Wenatchee Valley Chessforkidz: Chess4Kidz
LOCATION:Cascade Elementary School - Cascade-Library
URL;VALUE=URI:https://www.eastmont206.org/cas/calendar/4783131/wenatchee-va
 lley-chessforkidz-chess4kidz
DTSTART:20240508T221000Z
DTEND:20240508T230500Z
END:VEVENT
END:VCALENDAR
