BEGIN:VCALENDAR
VERSION:2.0
PRODID:SchoolNow
CALSCALE:GREGORIAN
BEGIN:VEVENT
UID:24069d08-5a18-11ee-b060-0eec6a8c31b3
DTSTAMP:20240314T041019Z
SUMMARY:Wenatchee Valley Chessforkidz: Chess4Kidz
LOCATION:Cascade Elementary School - Cascade-Library
URL;VALUE=URI:https://www.eastmont206.org/cas/calendar/4783132/wenatchee-va
 lley-chessforkidz-chess4kidz
DTSTART:20240515T221000Z
DTEND:20240515T230500Z
END:VEVENT
END:VCALENDAR
