BEGIN:VCALENDAR
VERSION:2.0
PRODID:SchoolNow
CALSCALE:GREGORIAN
BEGIN:VEVENT
UID:9710e0ea-5d3f-11ee-89d4-0a58a9feac02
DTSTAMP:20240314T041019Z
SUMMARY:Eastmont Education Association: EEA mtg
LOCATION:Cascade Elementary School - Cascade-Library
URL;VALUE=URI:https://www.eastmont206.org/cas/calendar/4800651/eastmont-edu
 cation-association-eea-mtg
DTSTART:20240408T230000Z
DTEND:20240409T003000Z
END:VEVENT
END:VCALENDAR
