BEGIN:VCALENDAR
VERSION:2.0
PRODID:SchoolNow
CALSCALE:GREGORIAN
BEGIN:VEVENT
UID:f6934f38-66b5-11ee-a776-0e6f0ed41087
DTSTAMP:20240314T041019Z
SUMMARY:Cascade Elementary Staff: PTO MEETING
LOCATION:Cascade Elementary School - Cascade-Library
URL;VALUE=URI:https://www.eastmont206.org/cas/calendar/4847638/cascade-elem
 entary-staff-pto-meeting
DTSTART:20240304T233000Z
DTEND:20240305T003000Z
END:VEVENT
END:VCALENDAR
