BEGIN:VCALENDAR
VERSION:2.0
PRODID:SchoolNow
CALSCALE:GREGORIAN
BEGIN:VEVENT
UID:f6936194-66b5-11ee-8dea-0e6f0ed41087
DTSTAMP:20240314T041019Z
SUMMARY:Cascade Elementary Staff: PTO MEETING
LOCATION:Cascade Elementary School - Cascade-Library
URL;VALUE=URI:https://www.eastmont206.org/cas/calendar/4847639/cascade-elem
 entary-staff-pto-meeting
DTSTART:20240506T223000Z
DTEND:20240506T233000Z
END:VEVENT
END:VCALENDAR
