BEGIN:VCALENDAR
VERSION:2.0
PRODID:SchoolNow
CALSCALE:GREGORIAN
BEGIN:VEVENT
UID:ab485c54-6849-11ee-a4e6-0a1c9bdb9453
DTSTAMP:20240314T041019Z
SUMMARY:Cascade Elementary Staff: DONUTS WITH GROWNUPS
LOCATION:Cascade Elementary School - Cascade- Cafeteria
URL;VALUE=URI:https://www.eastmont206.org/cas/calendar/4854821/cascade-elem
 entary-staff-donuts-with-grownups
DTSTART:20240415T150000Z
DTEND:20240415T160000Z
END:VEVENT
END:VCALENDAR
