BEGIN:VCALENDAR
VERSION:2.0
PRODID:SchoolNow
CALSCALE:GREGORIAN
BEGIN:VEVENT
UID:ab486d16-6849-11ee-820c-0a1c9bdb9453
DTSTAMP:20240314T041019Z
SUMMARY:Cascade Elementary Staff: PTO 'HARRY POTTER' FUN NIGHT
LOCATION:Cascade Elementary School - Cascade- Cafeteria\, Cascade-Gym
URL;VALUE=URI:https://www.eastmont206.org/cas/calendar/4854822/cascade-elem
 entary-staff-pto-harry-potter-fun-night
DTSTART:20240525T010000Z
DTEND:20240525T030000Z
END:VEVENT
END:VCALENDAR
