BEGIN:VCALENDAR
VERSION:2.0
PRODID:SchoolNow
CALSCALE:GREGORIAN
BEGIN:VEVENT
UID:df635cfe-6d04-11ee-8d45-0aa8d2e5e10b
DTSTAMP:20240314T041019Z
SUMMARY:Wenatchee Valley Lacrosse Club: Conditioning
LOCATION:Cascade Elementary School - Cascade- Cafeteria
URL;VALUE=URI:https://www.eastmont206.org/cas/calendar/4873877/wenatchee-va
 lley-lacrosse-club-conditioning
DTSTART:20240215T003000Z
DTEND:20240215T020000Z
END:VEVENT
END:VCALENDAR
