BEGIN:VCALENDAR
VERSION:2.0
PRODID:SchoolNow
CALSCALE:GREGORIAN
BEGIN:VEVENT
UID:e4128a24-78d8-11ee-9149-0a58a9feac02
DTSTAMP:20240314T041019Z
SUMMARY:Wenatchee FC Youth: Wenatchee FC Youth
LOCATION:Cascade Elementary School - Cascade-Gym
URL;VALUE=URI:https://www.eastmont206.org/cas/calendar/4918858/wenatchee-fc
 -youth-wenatchee-fc-youth
DTSTART:20240214T020500Z
DTEND:20240214T052500Z
END:VEVENT
END:VCALENDAR
