BEGIN:VCALENDAR
VERSION:2.0
PRODID:SchoolNow
CALSCALE:GREGORIAN
BEGIN:VEVENT
UID:e412f324-78d8-11ee-9cad-0a58a9feac02
DTSTAMP:20240314T041019Z
SUMMARY:Wenatchee FC Youth: Wenatchee FC Youth
LOCATION:Cascade Elementary School - Cascade-Gym
URL;VALUE=URI:https://www.eastmont206.org/cas/calendar/4918860/wenatchee-fc
 -youth-wenatchee-fc-youth
DTSTART:20240216T020500Z
DTEND:20240216T052500Z
END:VEVENT
END:VCALENDAR
