BEGIN:VCALENDAR
VERSION:2.0
PRODID:SchoolNow
CALSCALE:GREGORIAN
BEGIN:VEVENT
UID:e412ff54-78d8-11ee-8f0b-0a58a9feac02
DTSTAMP:20240314T041019Z
SUMMARY:Wenatchee Valley United SC: Indoor soccer training and conditioning
LOCATION:Cascade Elementary School - Cascade-Gym
URL;VALUE=URI:https://www.eastmont206.org/cas/calendar/4918861/wenatchee-va
 lley-united-sc-indoor-soccer-training-and-conditioning
DTSTART:20240217T023000Z
DTEND:20240217T043000Z
END:VEVENT
END:VCALENDAR
