BEGIN:VCALENDAR
VERSION:2.0
PRODID:SchoolNow
CALSCALE:GREGORIAN
BEGIN:VEVENT
UID:e4133ef6-78d8-11ee-aea2-0a58a9feac02
DTSTAMP:20240314T041019Z
SUMMARY:Wenatchee Valley United SC: Indoor soccer training and conditioning
LOCATION:Cascade Elementary School - Cascade-Gym
URL;VALUE=URI:https://www.eastmont206.org/cas/calendar/4918866/wenatchee-va
 lley-united-sc-indoor-soccer-training-and-conditioning
DTSTART:20240224T023000Z
DTEND:20240224T043000Z
END:VEVENT
END:VCALENDAR
