BEGIN:VCALENDAR
VERSION:2.0
PRODID:SchoolNow
CALSCALE:GREGORIAN
BEGIN:VEVENT
UID:66661658-a9bc-11ee-a458-0a58a9feac02
DTSTAMP:20240314T041019Z
SUMMARY:Wenatchee Valley Lacrosse Club: WVL Board Meeting
LOCATION:Cascade Elementary School - Cascade-Library
URL;VALUE=URI:https://www.eastmont206.org/cas/calendar/5094032/wenatchee-va
 lley-lacrosse-club-wvl-board-meeting
DTSTART:20240710T003000Z
DTEND:20240710T020000Z
END:VEVENT
END:VCALENDAR
