BEGIN:VCALENDAR
VERSION:2.0
PRODID:SchoolNow
CALSCALE:GREGORIAN
BEGIN:VEVENT
UID:66662f58-a9bc-11ee-9231-0a58a9feac02
DTSTAMP:20240314T041019Z
SUMMARY:Wenatchee Valley Lacrosse Club: WVL Board Meeting
LOCATION:Cascade Elementary School - Cascade-Library
URL;VALUE=URI:https://www.eastmont206.org/cas/calendar/5094034/wenatchee-va
 lley-lacrosse-club-wvl-board-meeting
DTSTART:20240904T003000Z
DTEND:20240904T020000Z
END:VEVENT
END:VCALENDAR
