BEGIN:VCALENDAR
VERSION:2.0
PRODID:SchoolNow
CALSCALE:GREGORIAN
BEGIN:VEVENT
UID:6666479a-a9bc-11ee-b6c0-0a58a9feac02
DTSTAMP:20240314T041019Z
SUMMARY:Wenatchee Valley Lacrosse Club: WVL Board Meeting
LOCATION:Cascade Elementary School - Cascade-Library
URL;VALUE=URI:https://www.eastmont206.org/cas/calendar/5094036/wenatchee-va
 lley-lacrosse-club-wvl-board-meeting
DTSTART:20241106T013000Z
DTEND:20241106T030000Z
END:VEVENT
END:VCALENDAR
