BEGIN:VCALENDAR
VERSION:2.0
PRODID:SchoolNow
CALSCALE:GREGORIAN
BEGIN:VEVENT
UID:666653ac-a9bc-11ee-afda-0a58a9feac02
DTSTAMP:20240314T041019Z
SUMMARY:Wenatchee Valley Lacrosse Club: WVL Board Meeting
LOCATION:Cascade Elementary School - Cascade-Library
URL;VALUE=URI:https://www.eastmont206.org/cas/calendar/5094037/wenatchee-va
 lley-lacrosse-club-wvl-board-meeting
DTSTART:20241204T013000Z
DTEND:20241204T030000Z
END:VEVENT
END:VCALENDAR
