BEGIN:VCALENDAR
VERSION:2.0
PRODID:SchoolNow
CALSCALE:GREGORIAN
BEGIN:VEVENT
UID:fd30dc3a-ac19-11ee-919a-0a58a9feac02
DTSTAMP:20240314T041019Z
SUMMARY:Wenatchee Valley Lacrosse Club: Conditioning
LOCATION:Cascade Elementary School - Cascade- Cafeteria
URL;VALUE=URI:https://www.eastmont206.org/cas/calendar/5110929/wenatchee-va
 lley-lacrosse-club-conditioning
DTSTART:20240222T003000Z
DTEND:20240222T020000Z
END:VEVENT
END:VCALENDAR
