BEGIN:VCALENDAR
VERSION:2.0
PRODID:SchoolNow
CALSCALE:GREGORIAN
BEGIN:VEVENT
UID:3c373b50-b65a-11ee-a4d3-0a58a9feac02
DTSTAMP:20240314T041019Z
SUMMARY:Cascade Elementary Staff: YES Committee Meeting - Eastmont Bond
LOCATION:Cascade Elementary School - Cascade-Library
URL;VALUE=URI:https://www.eastmont206.org/cas/calendar/5175396/cascade-elem
 entary-staff-yes-committee-meeting-eastmont-bond
DTSTART:20240213T231500Z
DTEND:20240214T003000Z
END:VEVENT
END:VCALENDAR
