BEGIN:VCALENDAR
VERSION:2.0
PRODID:SchoolNow
CALSCALE:GREGORIAN
BEGIN:VEVENT
UID:ac4838fe-c555-11ee-9e3a-0a58a9feac02
DTSTAMP:20240314T041019Z
SUMMARY:Wenatchee Valley Lacrosse Club: Lacrosse Parent Meeting
LOCATION:Cascade Elementary School - Cascade- Cafeteria
URL;VALUE=URI:https://www.eastmont206.org/cas/calendar/5275819/wenatchee-va
 lley-lacrosse-club-lacrosse-parent-meeting
DTSTART:20240229T020000Z
DTEND:20240229T043000Z
END:VEVENT
END:VCALENDAR
