BEGIN:VCALENDAR
VERSION:2.0
PRODID:SchoolNow
CALSCALE:GREGORIAN
BEGIN:VEVENT
UID:d99c0726-ca10-11ee-8d44-0a58a9feac02
DTSTAMP:20240314T041019Z
SUMMARY:Girl Scouts of Eastern Washington & Northern Idaho: Girl Scouts Rob
 otics Badge
LOCATION:Cascade Elementary School - Cascade- Cafeteria
URL;VALUE=URI:https://www.eastmont206.org/cas/calendar/5316308/girl-scouts-
 of-eastern-washington-northern-idaho-girl-scouts-robotics-badge
DTSTART:20240613T010000Z
DTEND:20240613T023000Z
END:VEVENT
END:VCALENDAR
