BEGIN:VCALENDAR
VERSION:2.0
PRODID:SchoolNow
CALSCALE:GREGORIAN
BEGIN:VEVENT
UID:b4434d8e-cada-11ee-a2c2-0a58a9feac02
DTSTAMP:20240314T041019Z
SUMMARY:Wenatchee FC Youth: WFC Youth training
LOCATION:Cascade Elementary School - Cascade-Gym
URL;VALUE=URI:https://www.eastmont206.org/cas/calendar/5323261/wenatchee-fc
 -youth-wfc-youth-training
DTSTART:20240307T014000Z
DTEND:20240307T043500Z
END:VEVENT
END:VCALENDAR
