BEGIN:VCALENDAR
VERSION:2.0
PRODID:SchoolNow
CALSCALE:GREGORIAN
BEGIN:VEVENT
UID:b4439fdc-cada-11ee-afd4-0a58a9feac02
DTSTAMP:20240314T041019Z
SUMMARY:Wenatchee FC Youth: WFC Youth training
LOCATION:Cascade Elementary School - Cascade-Gym
URL;VALUE=URI:https://www.eastmont206.org/cas/calendar/5323266/wenatchee-fc
 -youth-wfc-youth-training
DTSTART:20240314T004000Z
DTEND:20240314T033500Z
END:VEVENT
END:VCALENDAR
