BEGIN:VCALENDAR
VERSION:2.0
PRODID:SchoolNow
CALSCALE:GREGORIAN
BEGIN:VEVENT
UID:8523fcf6-d778-11ee-9ff1-0edd6ebb489b
DTSTAMP:20240314T041019Z
SUMMARY:Cascade Elementary Staff: Parent Information Meeting 6th Grade Camp
LOCATION:Cascade Elementary School - Cascade- Cafeteria
URL;VALUE=URI:https://www.eastmont206.org/cas/calendar/5434944/cascade-elem
 entary-staff-parent-information-meeting-6th-grade-camp
DTSTART:20240313T004500Z
DTEND:20240313T011500Z
END:VEVENT
END:VCALENDAR
