BEGIN:VCALENDAR
VERSION:2.0
PRODID:SchoolNow
CALSCALE:GREGORIAN
BEGIN:VEVENT
UID:85242d16-d778-11ee-b21e-0edd6ebb489b
DTSTAMP:20240314T041019Z
SUMMARY:Cascade Elementary Staff: Parent Information Meeting Re: ALICE Trai
 ning
LOCATION:Cascade Elementary School - Cascade- Cafeteria
URL;VALUE=URI:https://www.eastmont206.org/cas/calendar/5434945/cascade-elem
 entary-staff-parent-information-meeting-re-alice-training
DTSTART:20240320T010000Z
DTEND:20240320T021500Z
END:VEVENT
END:VCALENDAR
