BEGIN:VCALENDAR
VERSION:2.0
PRODID:SchoolNow
CALSCALE:GREGORIAN
BEGIN:VEVENT
UID:c4f9f732-e1b8-11ee-992d-0a58a9feac02
DTSTAMP:20240314T041019Z
SUMMARY:Cascade Elementary Staff: 6th Grade Volleyball Club End of Year Cel
 ebration
LOCATION:Cascade Elementary School - Cascade-Gym
URL;VALUE=URI:https://www.eastmont206.org/cas/calendar/5538984/cascade-elem
 entary-staff-6th-grade-volleyball-club-end-of-year-celebration
DTSTART:20240321T221500Z
DTEND:20240322T003000Z
END:VEVENT
END:VCALENDAR
