BEGIN:VCALENDAR
VERSION:2.0
PRODID:SchoolNow
CALSCALE:GREGORIAN
BEGIN:VEVENT
UID:c4fb006e-e1b8-11ee-99b9-0a58a9feac02
DTSTAMP:20240314T041019Z
SUMMARY:Cascade Elementary Staff: 6th Grade Family Tamale Night
LOCATION:Cascade Elementary School - Cascade- Cafeteria\, Cascade-Gym
URL;VALUE=URI:https://www.eastmont206.org/cas/calendar/5538989/cascade-elem
 entary-staff-6th-grade-family-tamale-night
DTSTART:20240323T010000Z
DTEND:20240323T030000Z
END:VEVENT
END:VCALENDAR
