BEGIN:VCALENDAR
VERSION:2.0
PRODID:SchoolNow
CALSCALE:GREGORIAN
BEGIN:VEVENT
UID:c500c76a-e1b8-11ee-bf76-0a58a9feac02
DTSTAMP:20240314T041019Z
SUMMARY:Cascade Elementary Staff: Cascade Girls on The Run Meets
LOCATION:Cascade Elementary School - Cascade- Cafeteria\, Cascade-Gym
URL;VALUE=URI:https://www.eastmont206.org/cas/calendar/5539021/cascade-elem
 entary-staff-cascade-girls-on-the-run-meets
DTSTART:20240514T221500Z
DTEND:20240514T234500Z
END:VEVENT
END:VCALENDAR
