BEGIN:VCALENDAR
VERSION:2.0
PRODID:SchoolNow
CALSCALE:GREGORIAN
BEGIN:VEVENT
UID:c5011d1e-e1b8-11ee-909a-0a58a9feac02
DTSTAMP:20240314T041019Z
SUMMARY:Cascade Elementary Staff: Cascade Girls on The Run Meets
LOCATION:Cascade Elementary School - Multiple Spaces
URL;VALUE=URI:https://www.eastmont206.org/cas/calendar/5539028/cascade-elem
 entary-staff-cascade-girls-on-the-run-meets
DTSTART:20240527T221500Z
DTEND:20240527T234500Z
END:VEVENT
END:VCALENDAR
