BEGIN:VCALENDAR
VERSION:2.0
PRODID:SchoolNow
CALSCALE:GREGORIAN
BEGIN:VEVENT
UID:c63b051e-d7e1-11ed-9640-0e507cb9f9ab
DTSTAMP:20230823T033554Z
SUMMARY:Eastmont Junior High Staff: DO training
LOCATION:Eastmont Junior High School - EJHS-Auditorium
URL;VALUE=URI:https://www.eastmont206.org/ejhs/calendar/4023109/eastmont-ju
 nior-high-staff-do-training
DTSTART:20230823T143000Z
DTEND:20230823T190000Z
END:VEVENT
END:VCALENDAR
