BEGIN:VCALENDAR
VERSION:2.0
PRODID:SchoolNow
CALSCALE:GREGORIAN
BEGIN:VEVENT
UID:44a771be-f4ff-11ed-98e8-02b1b20e7af7
DTSTAMP:20230823T033554Z
SUMMARY:Eastmont Junior High Staff: Combat first aid  training
LOCATION:Eastmont Junior High School - EJHS-Classroom
URL;VALUE=URI:https://www.eastmont206.org/ejhs/calendar/4259737/eastmont-ju
 nior-high-staff-combat-first-aid-training
DTSTART:20230823T190000Z
DTEND:20230823T230000Z
END:VEVENT
END:VCALENDAR
