BEGIN:VCALENDAR
VERSION:2.0
PRODID:SchoolNow
CALSCALE:GREGORIAN
BEGIN:VEVENT
UID:6b6b98de-fa81-11ed-b226-02b1b20e7af7
DTSTAMP:20230823T033554Z
SUMMARY:Eastmont Junior High Staff: Transportation meeting
LOCATION:Eastmont Junior High School - EJHS-Auditorium
URL;VALUE=URI:https://www.eastmont206.org/ejhs/calendar/4297094/eastmont-ju
 nior-high-staff-transportation-meeting
DTSTART:20230824T150000Z
DTEND:20230824T220000Z
END:VEVENT
END:VCALENDAR
