BEGIN:VCALENDAR
VERSION:2.0
PRODID:SchoolNow
CALSCALE:GREGORIAN
BEGIN:VEVENT
UID:0355ad5a-061d-11ee-9c34-02b1b20e7af7
DTSTAMP:20230823T033554Z
SUMMARY:Eastmont Junior High Staff: Informed Parents
LOCATION:Eastmont Junior High School - EJHS-Auditorium
URL;VALUE=URI:https://www.eastmont206.org/ejhs/calendar/4371707/eastmont-ju
 nior-high-staff-informed-parents
DTSTART:20231117T020000Z
DTEND:20231117T030000Z
END:VEVENT
END:VCALENDAR
