BEGIN:VCALENDAR
VERSION:2.0
PRODID:SchoolNow
CALSCALE:GREGORIAN
BEGIN:VEVENT
UID:0355c330-061d-11ee-aaca-02b1b20e7af7
DTSTAMP:20230823T033555Z
SUMMARY:Eastmont Junior High Staff: Informed Parents
LOCATION:Eastmont Junior High School - Multiple Spaces
URL;VALUE=URI:https://www.eastmont206.org/ejhs/calendar/4371708/eastmont-ju
 nior-high-staff-informed-parents
DTSTART:20231208T020000Z
DTEND:20231208T030000Z
END:VEVENT
END:VCALENDAR
