BEGIN:VCALENDAR
VERSION:2.0
PRODID:SchoolNow
CALSCALE:GREGORIAN
BEGIN:VEVENT
UID:0355da82-061d-11ee-adc5-02b1b20e7af7
DTSTAMP:20230823T033555Z
SUMMARY:Eastmont Junior High Staff: Informed Parents
LOCATION:Eastmont Junior High School - EJHS-Auditorium
URL;VALUE=URI:https://www.eastmont206.org/ejhs/calendar/4371709/eastmont-ju
 nior-high-staff-informed-parents
DTSTART:20240223T020000Z
DTEND:20240223T030000Z
END:VEVENT
END:VCALENDAR
