BEGIN:VCALENDAR
VERSION:2.0
PRODID:SchoolNow
CALSCALE:GREGORIAN
BEGIN:VEVENT
UID:4f30e262-0adc-11ee-bd26-0a68657f9ba7
DTSTAMP:20230823T033554Z
SUMMARY:Eastmont Junior High Staff: Drug Impairment Training
LOCATION:Eastmont Junior High School - EJHS-Library
URL;VALUE=URI:https://www.eastmont206.org/ejhs/calendar/4389130/eastmont-ju
 nior-high-staff-drug-impairment-training
DTSTART:20230816T150000Z
DTEND:20230816T190000Z
END:VEVENT
END:VCALENDAR
