BEGIN:VCALENDAR
VERSION:2.0
PRODID:SchoolNow
CALSCALE:GREGORIAN
BEGIN:VEVENT
UID:f2c3e328-2780-11ee-9743-0a41bfaa277f
DTSTAMP:20230823T033554Z
SUMMARY:Special Education Department: Secondary Special Education Alignment
LOCATION:Eastmont Junior High School - EJHS-Library
URL;VALUE=URI:https://www.eastmont206.org/ejhs/calendar/4506007/special-edu
 cation-department-secondary-special-education-alignment
DTSTART:20230801T151500Z
DTEND:20230801T161500Z
END:VEVENT
END:VCALENDAR
