BEGIN:VCALENDAR
VERSION:2.0
PRODID:SchoolNow
CALSCALE:GREGORIAN
BEGIN:VEVENT
UID:f2c3f32c-2780-11ee-a290-0a41bfaa277f
DTSTAMP:20230823T033555Z
SUMMARY:District Office Administration: School Board Meeting
LOCATION:Eastmont Junior High School - EJHS-Library
URL;VALUE=URI:https://www.eastmont206.org/ejhs/calendar/4506008/district-of
 fice-administration-school-board-meeting
DTSTART:20240514T003000Z
DTEND:20240514T023000Z
END:VEVENT
END:VCALENDAR
