BEGIN:VCALENDAR
VERSION:2.0
PRODID:SchoolNow
CALSCALE:GREGORIAN
BEGIN:VEVENT
UID:bbf4e208-284c-11ee-ac4b-0a58a9feac02
DTSTAMP:20230823T033554Z
SUMMARY:Special Education Department: Entire Special Education Department T
 eam Meeting
LOCATION:Eastmont Junior High School - EJHS-Library
URL;VALUE=URI:https://www.eastmont206.org/ejhs/calendar/4513809/special-edu
 cation-department-entire-special-education-department-team-meeting
DTSTART:20230824T190000Z
DTEND:20230824T230000Z
END:VEVENT
END:VCALENDAR
