BEGIN:VCALENDAR
VERSION:2.0
PRODID:SchoolNow
CALSCALE:GREGORIAN
BEGIN:VEVENT
UID:9963dcc6-2b49-11ee-a6dd-02a7f7f5dfc3
DTSTAMP:20230823T033554Z
SUMMARY:District Office Administration: District Admin Meeting
LOCATION:Eastmont Junior High School - EJHS-Library
URL;VALUE=URI:https://www.eastmont206.org/ejhs/calendar/4521570/district-of
 fice-administration-district-admin-meeting
DTSTART:20230815T150000Z
DTEND:20230815T230000Z
END:VEVENT
END:VCALENDAR
